BEGIN:VCALENDAR
VERSION:2.0
PRODID:-//ISPE D/A/CH - ECPv6.15.20//NONSGML v1.0//EN
CALSCALE:GREGORIAN
METHOD:PUBLISH
X-ORIGINAL-URL:https://ispe-dach.org
X-WR-CALDESC:Veranstaltungen für ISPE D/A/CH
REFRESH-INTERVAL;VALUE=DURATION:PT1H
X-Robots-Tag:noindex
X-PUBLISHED-TTL:PT1H
BEGIN:VTIMEZONE
TZID:Europe/Berlin
BEGIN:DAYLIGHT
TZOFFSETFROM:+0100
TZOFFSETTO:+0200
TZNAME:CEST
DTSTART:20250330T010000
END:DAYLIGHT
BEGIN:STANDARD
TZOFFSETFROM:+0200
TZOFFSETTO:+0100
TZNAME:CET
DTSTART:20251026T010000
END:STANDARD
BEGIN:DAYLIGHT
TZOFFSETFROM:+0100
TZOFFSETTO:+0200
TZNAME:CEST
DTSTART:20260329T010000
END:DAYLIGHT
BEGIN:STANDARD
TZOFFSETFROM:+0200
TZOFFSETTO:+0100
TZNAME:CET
DTSTART:20261025T010000
END:STANDARD
BEGIN:DAYLIGHT
TZOFFSETFROM:+0100
TZOFFSETTO:+0200
TZNAME:CEST
DTSTART:20270328T010000
END:DAYLIGHT
BEGIN:STANDARD
TZOFFSETFROM:+0200
TZOFFSETTO:+0100
TZNAME:CET
DTSTART:20271031T010000
END:STANDARD
END:VTIMEZONE
BEGIN:VEVENT
DTSTART;TZID=Europe/Berlin:20260929T090000
DTEND;TZID=Europe/Berlin:20261001T170000
DTSTAMP:20260425T170558
CREATED:20260112T045401Z
LAST-MODIFIED:20260116T142641Z
UID:22940-1790672400-1790874000@ispe-dach.org
SUMMARY:Robotic & AI and RAYA Awards\, Powered by GAMP AI
DESCRIPTION:ATMP - Aktuelle Trends\, Chancen und Hürden in Herstellung und Kommerzialisierung\n				\n				\n				\n				\n							\n			\n		\n						\n				\n					\n		\n					\n		\n				\n						\n					\n			\n						\n				\n									ATMPs bewegen sich zwischen Hospital Exemption und industrieller Produktion. Infolgedessen liegen sie auch zwischen den Regularien: EU GMP Part IV und EU GMP Annex 1. ATMPs erweitern das Therapiespektrum enorm und können mit Lösungen aus den Baukästen zur Zell- und Gen-Therapie beeindruckende Ergebnisse – bis hin zur vollständigen Heilung bieten. 								\n				\n				\n				\n							\n			\n						\n		\n						\n				\n				\n				\n									Unser Seminar bietet Ihnen einen Überblick über die neuesten Trends und arbeitet im Spannungsfeld Part IV/Annex 1 passende Lösungen heraus. Neben Impulsvorträgen\, bieten wir Workshops an\, in denen Ideen ausgetauscht und Kontakte geknüpft werden können. Außerdem steht eine Führung bei der Firma Miltenyi auf dem Programm. 								\n				\n				\n				\n									\n					\n						\n									zur vorläufigen Agenda\n					\n					\n				\n								\n				\n					\n		\n				\n			\n						\n				\n												\n																					Der Miltenyi-Campus Bensberg\n										\n									\n				\n					\n		\n					\n		\n				\n						\n					\n			\n						\n				\n							\n			\n						\n		\n						\n				\n				\n				\n					Kerndaten				\n				\n				\n				\n							\n			\n		\n						\n				\n					\n		\n					\n		\n				\n						\n					\n			\n						\n				\n									ZielgruppeDie Veranstaltung richtet sich an Studierende\, erfahrene Fachkräfte sowie Verantwortliche für Krankenhaus-ATMP-Einrichtungen. Datum25.06.2026 17:00 Uhr – 26.06.2026 16:30 Uhr OrtFirma Miltenyi BiotecFriedrich-Ebert-Str. 6851429 BensbergDeutschland SpracheDeutsch. 								\n				\n					\n		\n				\n			\n						\n				\n									Anzahl der Teilnehmer*innenDie Anzahl der Teilnehmer*innen ist auf 30 beschränkt\, um einen effizienten Austausch zu gewährleisten. TeilnahmegebührDie Gebühren belaufen sich pro Teilnehmer auf: 450\,- € für ISPE Mitglieder750\,- € für Nicht-Mitglieder – Diese Buchungsoption beinhaltet eine einjährige ISPE Mitgliedschaft.0\,- € für studierende ISPE Mitglieder – Mitgliedschaften für Studierende sind kostenlos. weitere Informationen RegistrierungDie Registrierung kann nur über das Online Formular durchgeführt werden. Nutzen Sie dazu den Button „Registrierung“. 								\n				\n				\n				\n									\n					\n						\n									Registrierung
URL:https://ispe-dach.org/events/robotic-ai-and-raya-awards-powered-by-gamp-ai/
CATEGORIES:SIG Future Robotics
ATTACH;FMTTYPE=image/jpeg:https://ispe-dach.org/wp-content/uploads/2026/01/betterbanner.jpg
END:VEVENT
END:VCALENDAR